BEGIN:VCALENDAR
VERSION:2.0
PRODID:-//Library Market//iCal Export//EN
BEGIN:VEVENT
SUMMARY:Make A Fairy Garden
UID:54059
DTSTAMP:20260424T072000Z
DTSTART:20260708T223000Z
DTEND:20260709T000000Z
LOCATION:New Lenox Public Library, 120 Veterans Parkway, New Lenox, IL 604
 51, United States
ROOM: The Studio
DESCRIPTION:Let&#039;s create a miniature garden with succulents, small la
 ndscape materials, and magical props. We will give you a step-by-step tuto
 rial on planting your succulents and will provide the supplies for you to 
 personalize your miniature garden. This is a project program.
URL:https://www.newlenoxlibrary.org/event/make-fairy-garden-54059
END:VEVENT
END:VCALENDAR
