BEGIN:VCALENDAR
VERSION:2.0
PRODID:-//Library Market//iCal Export//EN
BEGIN:VEVENT
SUMMARY:Collage: Self-Portraits (1st-6th Grade)
UID:54068
DTSTAMP:20260424T064800Z
DTSTART:20260715T180000Z
DTEND:20260715T190000Z
LOCATION:New Lenox Public Library, 120 Veterans Parkway, New Lenox, IL 604
 51, United States
ROOM: The Studio
DESCRIPTION:col·lage : the art of overlapping pieces of materials, such a
 s photos, paper, or other mixed media, into a desired shape or design on a
  chosen surface1st-6th grade. Cut, paste, and create! Learn the art of col
 lage making with various materials. For each class, we will be giving a ne
 w prompt with different materials and techniques to create your work of ar
 t. For this class, we will be creating self-portraits with cardstock and 
 construction paper. All materials will be provided. This is a project pro
 gram.
URL:https://www.newlenoxlibrary.org/event/collage-self-portraits-54068
END:VEVENT
END:VCALENDAR
