BEGIN:VCALENDAR
VERSION:2.0
PRODID:-//Library Market//iCal Export//EN
BEGIN:VEVENT
SUMMARY:Collage: Self-Portraits (Teens &amp; Adults)
UID:54069
DTSTAMP:20260424T063800Z
DTSTART:20260715T223000Z
DTEND:20260716T000000Z
LOCATION:New Lenox Public Library, 120 Veterans Parkway, New Lenox, IL 604
 51, United States
ROOM: The Studio
DESCRIPTION:col·lage : the art of overlapping pieces of materials, such a
 s photos, paper, or other mixed media, into a desired shape or design on a
  chosen surfaceTeens &amp; Adults: Cut, paste, and create! Learn the art o
 f collage making with various materials. For each class, we will be giving
  a new prompt with different materials and techniques to create your work 
 of art. For this class, we will be creating self-portraits with cardstock
  and construction paper. All materials will be provided. 
URL:https://www.newlenoxlibrary.org/event/collage-self-portraits-teens-adu
 lts-54069
END:VEVENT
END:VCALENDAR
