BEGIN:VCALENDAR
VERSION:2.0
PRODID:-//Library Market//iCal Export//EN
BEGIN:VEVENT
SUMMARY:Crafting with the Cricut: Paper Flower Shadow Box
UID:54070
DTSTAMP:20260424T072000Z
DTSTART:20260720T223000Z
DTEND:20260721T000000Z
LOCATION:New Lenox Public Library, 120 Veterans Parkway, New Lenox, IL 604
 51, United States
ROOM: The Studio
DESCRIPTION:Let&#039;s use the Cricut Maker 3 to make paper, vinyl, or hea
 t transfer projects. This month, we will be making Paper Flower Shadow Bo
 xes. All materials will be provided. 1 shadow box per patron. 
URL:https://www.newlenoxlibrary.org/event/crafting-cricut-paper-flower-sha
 dow-box-54070
END:VEVENT
END:VCALENDAR
