BEGIN:VCALENDAR
VERSION:2.0
PRODID:-//Library Market//iCal Export//EN
BEGIN:VEVENT
SUMMARY:Studio2Go: Zen Garden
UID:54071
DTSTAMP:20260424T063800Z
DTSTART:20260712T050000Z
DTEND:20260718T050000Z
LOCATION:New Lenox Public Library, 120 Veterans Parkway, New Lenox, IL 604
 51, United States
ROOM: The Studio
DESCRIPTION:Stop by the Studio to pick up the craft of the month. We will 
 provide all the materials you may need. This month, you will be making a 
 Zen Garden. The kit will include sand, miniature gardening tools, and smal
 l decorations. Feel free to add your own personal touches that brings you 
 peace of mind. *While supplies lasts.
URL:https://www.newlenoxlibrary.org/event/studio2go-zen-garden-54071
END:VEVENT
END:VCALENDAR
